BEGIN:VCALENDAR
VERSION:2.0
PRODID:-//Greenacre Area Community Centre - ECPv5.2.1//NONSGML v1.0//EN
CALSCALE:GREGORIAN
METHOD:PUBLISH
X-WR-CALNAME:Greenacre Area Community Centre
X-ORIGINAL-URL:https://www.gacc.org.au
X-WR-CALDESC:Events for Greenacre Area Community Centre
BEGIN:VTIMEZONE
TZID:Australia/Sydney
BEGIN:STANDARD
TZOFFSETFROM:+1100
TZOFFSETTO:+1000
TZNAME:AEST
DTSTART:20230401T160000
END:STANDARD
BEGIN:DAYLIGHT
TZOFFSETFROM:+1000
TZOFFSETTO:+1100
TZNAME:AEDT
DTSTART:20230930T160000
END:DAYLIGHT
END:VTIMEZONE
BEGIN:VEVENT
DTSTART;TZID=Australia/Sydney:20230228T120000
DTEND;TZID=Australia/Sydney:20230228T130000
DTSTAMP:20210301T180304
CREATED:20200629T192526Z
LAST-MODIFIED:20200629T192526Z
UID:3460-1677585600-1677589200@www.gacc.org.au
SUMMARY:Hatha Yoga Classes
DESCRIPTION:When: Tuesdays 12pm – 1pm\nWhere: Greenacre Area Community Centre\nHow Much: $8 Casual Rate / $20 for 4 weeks \n\n\n\n\n\n\nSuitable for anyone who wants to feel fitter and happier and have more energy! \n\n\n$8 for Casual Rate\n$5 if paid in advance\n4 weeks $20
URL:https://www.gacc.org.au/event/hatha-yoga-classes/2023-02-28/
LOCATION:Greenacre Area Community Centre\, 87 Waterloo Road\, Greenacre\, NSW\, 2190\, Australia
CATEGORIES:Adult Programs,Yoga Class
ORGANIZER;CN="Greenacre%20Area%20Community%20Centre":MAILTO:info@gacc.org.au
END:VEVENT
BEGIN:VEVENT
DTSTART;TZID=Australia/Sydney:20230228T100000
DTEND;TZID=Australia/Sydney:20230228T110000
DTSTAMP:20210301T180304
CREATED:20200629T203548Z
LAST-MODIFIED:20200629T203548Z
UID:3461-1677578400-1677582000@www.gacc.org.au
SUMMARY:Gentle Exercise Group
DESCRIPTION:When: Tuesday 10am – 11am\nCost: $5 \n  \n\n\n\n\n\n\nOur instructor is a Registered Nurse with many years experience in Aged Care. \nAll welcome to join this friendly group and do sensible exercise. \n  \nFor further information and to register for the class\, please call the Centre on 9750 7982.
URL:https://www.gacc.org.au/event/gentle-exercise-group/2023-02-28/
LOCATION:Greenacre Area Community Centre\, 87 Waterloo Road\, Greenacre\, NSW\, 2190\, Australia
CATEGORIES:Adult Programs,Gentle Exercise
ATTACH;FMTTYPE=image/jpeg:https://www.gacc.org.au/wp-content/uploads/2020/06/group_exercise.jpg
ORGANIZER;CN="Greenacre%20Area%20Community%20Centre":MAILTO:info@gacc.org.au
END:VEVENT
BEGIN:VEVENT
DTSTART;TZID=Australia/Sydney:20230224T103000
DTEND;TZID=Australia/Sydney:20230224T123000
DTSTAMP:20210301T180304
CREATED:20200629T204406Z
LAST-MODIFIED:20200629T204406Z
UID:3459-1677234600-1677241800@www.gacc.org.au
SUMMARY:Food Hamper Drive Thru
DESCRIPTION:COVID-19 Emergency food relief for the community \n  \nWhen: Every Friday from 10.30am -12:30pm\nWhere: Greenacre Area Community Centre \n\n\n\n\n\n\nSUPPORTING LOCAL FAMILIES TO EAT WELL AND LIVE WELL!\n  \nHeld at our Centre every Friday between 10.30am – 12:30pm until all bags are handed out. \nMust be 18+ and live in the Canterbury / Bankstown LGA \nWe ask for a $2 donation towards the cost of transport.
URL:https://www.gacc.org.au/event/food-hamper-drive-thru/2023-02-24/
LOCATION:Greenacre Area Community Centre\, 87 Waterloo Road\, Greenacre\, NSW\, 2190\, Australia
CATEGORIES:Community Programs,Food Hamper Drive Thru
ORGANIZER;CN="Greenacre%20Area%20Community%20Centre":MAILTO:info@gacc.org.au
END:VEVENT
BEGIN:VEVENT
DTSTART;TZID=Australia/Sydney:20230222T100000
DTEND;TZID=Australia/Sydney:20230222T113000
DTSTAMP:20210301T180304
CREATED:20200629T204958Z
LAST-MODIFIED:20200629T204958Z
UID:3458-1677060000-1677065400@www.gacc.org.au
SUMMARY:Playgroup
DESCRIPTION:Address: 87 Waterloo Rd\, Greenacre\nCost: Free. \nOur Playgroup runs every Wednesday from 10am to 11.30am and aims to support children 0-5yrs and their parents/carers and grandparents by engaging in creative play to assist in early childhood development and providing parent/carers with the resources they need. \nIt’s also a place for connecting with other parents and sharing common experiences and feeling supported.
URL:https://www.gacc.org.au/event/playgroup/2023-02-22/
LOCATION:Greenacre Area Community Centre\, 87 Waterloo Road\, Greenacre\, NSW\, 2190\, Australia
CATEGORIES:Child Programs,Playgroups
ATTACH;FMTTYPE=image/jpeg:https://www.gacc.org.au/wp-content/uploads/2020/06/img-children02.jpg
ORGANIZER;CN="Greenacre%20Area%20Community%20Centre":MAILTO:info@gacc.org.au
END:VEVENT
BEGIN:VEVENT
DTSTART;TZID=Australia/Sydney:20230221T120000
DTEND;TZID=Australia/Sydney:20230221T130000
DTSTAMP:20210301T180304
CREATED:20200629T192526Z
LAST-MODIFIED:20200629T192526Z
UID:3454-1676980800-1676984400@www.gacc.org.au
SUMMARY:Hatha Yoga Classes
DESCRIPTION:When: Tuesdays 12pm – 1pm\nWhere: Greenacre Area Community Centre\nHow Much: $8 Casual Rate / $20 for 4 weeks \n\n\n\n\n\n\nSuitable for anyone who wants to feel fitter and happier and have more energy! \n\n\n$8 for Casual Rate\n$5 if paid in advance\n4 weeks $20
URL:https://www.gacc.org.au/event/hatha-yoga-classes/2023-02-21/
LOCATION:Greenacre Area Community Centre\, 87 Waterloo Road\, Greenacre\, NSW\, 2190\, Australia
CATEGORIES:Adult Programs,Yoga Class
ORGANIZER;CN="Greenacre%20Area%20Community%20Centre":MAILTO:info@gacc.org.au
END:VEVENT
BEGIN:VEVENT
DTSTART;TZID=Australia/Sydney:20230221T100000
DTEND;TZID=Australia/Sydney:20230221T110000
DTSTAMP:20210301T180304
CREATED:20200629T203548Z
LAST-MODIFIED:20200629T203548Z
UID:3455-1676973600-1676977200@www.gacc.org.au
SUMMARY:Gentle Exercise Group
DESCRIPTION:When: Tuesday 10am – 11am\nCost: $5 \n  \n\n\n\n\n\n\nOur instructor is a Registered Nurse with many years experience in Aged Care. \nAll welcome to join this friendly group and do sensible exercise. \n  \nFor further information and to register for the class\, please call the Centre on 9750 7982.
URL:https://www.gacc.org.au/event/gentle-exercise-group/2023-02-21/
LOCATION:Greenacre Area Community Centre\, 87 Waterloo Road\, Greenacre\, NSW\, 2190\, Australia
CATEGORIES:Adult Programs,Gentle Exercise
ATTACH;FMTTYPE=image/jpeg:https://www.gacc.org.au/wp-content/uploads/2020/06/group_exercise.jpg
ORGANIZER;CN="Greenacre%20Area%20Community%20Centre":MAILTO:info@gacc.org.au
END:VEVENT
BEGIN:VEVENT
DTSTART;TZID=Australia/Sydney:20230217T133000
DTEND;TZID=Australia/Sydney:20230217T150000
DTSTAMP:20210301T180304
CREATED:20210214T175542Z
LAST-MODIFIED:20210214T175542Z
UID:3440-1676640600-1676646000@www.gacc.org.au
SUMMARY:Women's Creative Space
DESCRIPTION:A Monthly Program for Women of the local community to develop and share their creative skills with others. \nActivities include knitting\, crocheting\, sewing\, painting and more! \nBegins 19th Feb 2021! \n  \nWhen: Every third Friday of the Month\nTime: 1:30pm – 3:00pm\nWhere: Greenacre Area Community Centre\nCost: A small fee may apply based on the month’s activity
URL:https://www.gacc.org.au/event/womens-creative-space/2023-02-17/
LOCATION:Greenacre Area Community Centre\, 87 Waterloo Road\, Greenacre\, NSW\, 2190\, Australia
CATEGORIES:Women's Creative Space
ATTACH;FMTTYPE=image/jpeg:https://www.gacc.org.au/wp-content/uploads/2021/02/creativespace.jpg
ORGANIZER;CN="Greenacre%20Area%20Community%20Centre":MAILTO:info@gacc.org.au
END:VEVENT
BEGIN:VEVENT
DTSTART;TZID=Australia/Sydney:20230217T103000
DTEND;TZID=Australia/Sydney:20230217T123000
DTSTAMP:20210301T180304
CREATED:20200629T204406Z
LAST-MODIFIED:20200629T204406Z
UID:3441-1676629800-1676637000@www.gacc.org.au
SUMMARY:Food Hamper Drive Thru
DESCRIPTION:COVID-19 Emergency food relief for the community \n  \nWhen: Every Friday from 10.30am -12:30pm\nWhere: Greenacre Area Community Centre \n\n\n\n\n\n\nSUPPORTING LOCAL FAMILIES TO EAT WELL AND LIVE WELL!\n  \nHeld at our Centre every Friday between 10.30am – 12:30pm until all bags are handed out. \nMust be 18+ and live in the Canterbury / Bankstown LGA \nWe ask for a $2 donation towards the cost of transport.
URL:https://www.gacc.org.au/event/food-hamper-drive-thru/2023-02-17/
LOCATION:Greenacre Area Community Centre\, 87 Waterloo Road\, Greenacre\, NSW\, 2190\, Australia
CATEGORIES:Community Programs,Food Hamper Drive Thru
ORGANIZER;CN="Greenacre%20Area%20Community%20Centre":MAILTO:info@gacc.org.au
END:VEVENT
BEGIN:VEVENT
DTSTART;TZID=Australia/Sydney:20230215T100000
DTEND;TZID=Australia/Sydney:20230215T113000
DTSTAMP:20210301T180304
CREATED:20200629T204958Z
LAST-MODIFIED:20200629T204958Z
UID:3438-1676455200-1676460600@www.gacc.org.au
SUMMARY:Playgroup
DESCRIPTION:Address: 87 Waterloo Rd\, Greenacre\nCost: Free. \nOur Playgroup runs every Wednesday from 10am to 11.30am and aims to support children 0-5yrs and their parents/carers and grandparents by engaging in creative play to assist in early childhood development and providing parent/carers with the resources they need. \nIt’s also a place for connecting with other parents and sharing common experiences and feeling supported.
URL:https://www.gacc.org.au/event/playgroup/2023-02-15/
LOCATION:Greenacre Area Community Centre\, 87 Waterloo Road\, Greenacre\, NSW\, 2190\, Australia
CATEGORIES:Child Programs,Playgroups
ATTACH;FMTTYPE=image/jpeg:https://www.gacc.org.au/wp-content/uploads/2020/06/img-children02.jpg
ORGANIZER;CN="Greenacre%20Area%20Community%20Centre":MAILTO:info@gacc.org.au
END:VEVENT
BEGIN:VEVENT
DTSTART;TZID=Australia/Sydney:20230214T120000
DTEND;TZID=Australia/Sydney:20230214T130000
DTSTAMP:20210301T180304
CREATED:20200629T192526Z
LAST-MODIFIED:20200629T192526Z
UID:3436-1676376000-1676379600@www.gacc.org.au
SUMMARY:Hatha Yoga Classes
DESCRIPTION:When: Tuesdays 12pm – 1pm\nWhere: Greenacre Area Community Centre\nHow Much: $8 Casual Rate / $20 for 4 weeks \n\n\n\n\n\n\nSuitable for anyone who wants to feel fitter and happier and have more energy! \n\n\n$8 for Casual Rate\n$5 if paid in advance\n4 weeks $20
URL:https://www.gacc.org.au/event/hatha-yoga-classes/2023-02-14/
LOCATION:Greenacre Area Community Centre\, 87 Waterloo Road\, Greenacre\, NSW\, 2190\, Australia
CATEGORIES:Adult Programs,Yoga Class
ORGANIZER;CN="Greenacre%20Area%20Community%20Centre":MAILTO:info@gacc.org.au
END:VEVENT
BEGIN:VEVENT
DTSTART;TZID=Australia/Sydney:20230214T100000
DTEND;TZID=Australia/Sydney:20230214T110000
DTSTAMP:20210301T180304
CREATED:20200629T203548Z
LAST-MODIFIED:20200629T203548Z
UID:3437-1676368800-1676372400@www.gacc.org.au
SUMMARY:Gentle Exercise Group
DESCRIPTION:When: Tuesday 10am – 11am\nCost: $5 \n  \n\n\n\n\n\n\nOur instructor is a Registered Nurse with many years experience in Aged Care. \nAll welcome to join this friendly group and do sensible exercise. \n  \nFor further information and to register for the class\, please call the Centre on 9750 7982.
URL:https://www.gacc.org.au/event/gentle-exercise-group/2023-02-14/
LOCATION:Greenacre Area Community Centre\, 87 Waterloo Road\, Greenacre\, NSW\, 2190\, Australia
CATEGORIES:Adult Programs,Gentle Exercise
ATTACH;FMTTYPE=image/jpeg:https://www.gacc.org.au/wp-content/uploads/2020/06/group_exercise.jpg
ORGANIZER;CN="Greenacre%20Area%20Community%20Centre":MAILTO:info@gacc.org.au
END:VEVENT
BEGIN:VEVENT
DTSTART;TZID=Australia/Sydney:20230210T103000
DTEND;TZID=Australia/Sydney:20230210T123000
DTSTAMP:20210301T180304
CREATED:20200629T204406Z
LAST-MODIFIED:20200629T204406Z
UID:3304-1676025000-1676032200@www.gacc.org.au
SUMMARY:Food Hamper Drive Thru
DESCRIPTION:COVID-19 Emergency food relief for the community \n  \nWhen: Every Friday from 10.30am -12:30pm\nWhere: Greenacre Area Community Centre \n\n\n\n\n\n\nSUPPORTING LOCAL FAMILIES TO EAT WELL AND LIVE WELL!\n  \nHeld at our Centre every Friday between 10.30am – 12:30pm until all bags are handed out. \nMust be 18+ and live in the Canterbury / Bankstown LGA \nWe ask for a $2 donation towards the cost of transport.
URL:https://www.gacc.org.au/event/food-hamper-drive-thru/2023-02-10/
LOCATION:Greenacre Area Community Centre\, 87 Waterloo Road\, Greenacre\, NSW\, 2190\, Australia
CATEGORIES:Community Programs,Food Hamper Drive Thru
ORGANIZER;CN="Greenacre%20Area%20Community%20Centre":MAILTO:info@gacc.org.au
END:VEVENT
BEGIN:VEVENT
DTSTART;TZID=Australia/Sydney:20230208T100000
DTEND;TZID=Australia/Sydney:20230208T113000
DTSTAMP:20210301T180304
CREATED:20200629T204958Z
LAST-MODIFIED:20200629T204958Z
UID:3303-1675850400-1675855800@www.gacc.org.au
SUMMARY:Playgroup
DESCRIPTION:Address: 87 Waterloo Rd\, Greenacre\nCost: Free. \nOur Playgroup runs every Wednesday from 10am to 11.30am and aims to support children 0-5yrs and their parents/carers and grandparents by engaging in creative play to assist in early childhood development and providing parent/carers with the resources they need. \nIt’s also a place for connecting with other parents and sharing common experiences and feeling supported.
URL:https://www.gacc.org.au/event/playgroup/2023-02-08/
LOCATION:Greenacre Area Community Centre\, 87 Waterloo Road\, Greenacre\, NSW\, 2190\, Australia
CATEGORIES:Child Programs,Playgroups
ATTACH;FMTTYPE=image/jpeg:https://www.gacc.org.au/wp-content/uploads/2020/06/img-children02.jpg
ORGANIZER;CN="Greenacre%20Area%20Community%20Centre":MAILTO:info@gacc.org.au
END:VEVENT
BEGIN:VEVENT
DTSTART;TZID=Australia/Sydney:20230207T120000
DTEND;TZID=Australia/Sydney:20230207T130000
DTSTAMP:20210301T180304
CREATED:20200629T192526Z
LAST-MODIFIED:20200629T192526Z
UID:3301-1675771200-1675774800@www.gacc.org.au
SUMMARY:Hatha Yoga Classes
DESCRIPTION:When: Tuesdays 12pm – 1pm\nWhere: Greenacre Area Community Centre\nHow Much: $8 Casual Rate / $20 for 4 weeks \n\n\n\n\n\n\nSuitable for anyone who wants to feel fitter and happier and have more energy! \n\n\n$8 for Casual Rate\n$5 if paid in advance\n4 weeks $20
URL:https://www.gacc.org.au/event/hatha-yoga-classes/2023-02-07/
LOCATION:Greenacre Area Community Centre\, 87 Waterloo Road\, Greenacre\, NSW\, 2190\, Australia
CATEGORIES:Adult Programs,Yoga Class
ORGANIZER;CN="Greenacre%20Area%20Community%20Centre":MAILTO:info@gacc.org.au
END:VEVENT
BEGIN:VEVENT
DTSTART;TZID=Australia/Sydney:20230207T100000
DTEND;TZID=Australia/Sydney:20230207T110000
DTSTAMP:20210301T180304
CREATED:20200629T203548Z
LAST-MODIFIED:20200629T203548Z
UID:3302-1675764000-1675767600@www.gacc.org.au
SUMMARY:Gentle Exercise Group
DESCRIPTION:When: Tuesday 10am – 11am\nCost: $5 \n  \n\n\n\n\n\n\nOur instructor is a Registered Nurse with many years experience in Aged Care. \nAll welcome to join this friendly group and do sensible exercise. \n  \nFor further information and to register for the class\, please call the Centre on 9750 7982.
URL:https://www.gacc.org.au/event/gentle-exercise-group/2023-02-07/
LOCATION:Greenacre Area Community Centre\, 87 Waterloo Road\, Greenacre\, NSW\, 2190\, Australia
CATEGORIES:Adult Programs,Gentle Exercise
ATTACH;FMTTYPE=image/jpeg:https://www.gacc.org.au/wp-content/uploads/2020/06/group_exercise.jpg
ORGANIZER;CN="Greenacre%20Area%20Community%20Centre":MAILTO:info@gacc.org.au
END:VEVENT
BEGIN:VEVENT
DTSTART;TZID=Australia/Sydney:20230203T103000
DTEND;TZID=Australia/Sydney:20230203T123000
DTSTAMP:20210301T180304
CREATED:20200629T204406Z
LAST-MODIFIED:20200629T204406Z
UID:3300-1675420200-1675427400@www.gacc.org.au
SUMMARY:Food Hamper Drive Thru
DESCRIPTION:COVID-19 Emergency food relief for the community \n  \nWhen: Every Friday from 10.30am -12:30pm\nWhere: Greenacre Area Community Centre \n\n\n\n\n\n\nSUPPORTING LOCAL FAMILIES TO EAT WELL AND LIVE WELL!\n  \nHeld at our Centre every Friday between 10.30am – 12:30pm until all bags are handed out. \nMust be 18+ and live in the Canterbury / Bankstown LGA \nWe ask for a $2 donation towards the cost of transport.
URL:https://www.gacc.org.au/event/food-hamper-drive-thru/2023-02-03/
LOCATION:Greenacre Area Community Centre\, 87 Waterloo Road\, Greenacre\, NSW\, 2190\, Australia
CATEGORIES:Community Programs,Food Hamper Drive Thru
ORGANIZER;CN="Greenacre%20Area%20Community%20Centre":MAILTO:info@gacc.org.au
END:VEVENT
BEGIN:VEVENT
DTSTART;TZID=Australia/Sydney:20230201T100000
DTEND;TZID=Australia/Sydney:20230201T113000
DTSTAMP:20210301T180304
CREATED:20200629T204958Z
LAST-MODIFIED:20200629T204958Z
UID:3299-1675245600-1675251000@www.gacc.org.au
SUMMARY:Playgroup
DESCRIPTION:Address: 87 Waterloo Rd\, Greenacre\nCost: Free. \nOur Playgroup runs every Wednesday from 10am to 11.30am and aims to support children 0-5yrs and their parents/carers and grandparents by engaging in creative play to assist in early childhood development and providing parent/carers with the resources they need. \nIt’s also a place for connecting with other parents and sharing common experiences and feeling supported.
URL:https://www.gacc.org.au/event/playgroup/2023-02-01/
LOCATION:Greenacre Area Community Centre\, 87 Waterloo Road\, Greenacre\, NSW\, 2190\, Australia
CATEGORIES:Child Programs,Playgroups
ATTACH;FMTTYPE=image/jpeg:https://www.gacc.org.au/wp-content/uploads/2020/06/img-children02.jpg
ORGANIZER;CN="Greenacre%20Area%20Community%20Centre":MAILTO:info@gacc.org.au
END:VEVENT
BEGIN:VEVENT
DTSTART;TZID=Australia/Sydney:20230131T120000
DTEND;TZID=Australia/Sydney:20230131T130000
DTSTAMP:20210301T180304
CREATED:20200629T192526Z
LAST-MODIFIED:20200629T192526Z
UID:3297-1675166400-1675170000@www.gacc.org.au
SUMMARY:Hatha Yoga Classes
DESCRIPTION:When: Tuesdays 12pm – 1pm\nWhere: Greenacre Area Community Centre\nHow Much: $8 Casual Rate / $20 for 4 weeks \n\n\n\n\n\n\nSuitable for anyone who wants to feel fitter and happier and have more energy! \n\n\n$8 for Casual Rate\n$5 if paid in advance\n4 weeks $20
URL:https://www.gacc.org.au/event/hatha-yoga-classes/2023-01-31/
LOCATION:Greenacre Area Community Centre\, 87 Waterloo Road\, Greenacre\, NSW\, 2190\, Australia
CATEGORIES:Adult Programs,Yoga Class
ORGANIZER;CN="Greenacre%20Area%20Community%20Centre":MAILTO:info@gacc.org.au
END:VEVENT
BEGIN:VEVENT
DTSTART;TZID=Australia/Sydney:20230131T100000
DTEND;TZID=Australia/Sydney:20230131T110000
DTSTAMP:20210301T180304
CREATED:20200629T203548Z
LAST-MODIFIED:20200629T203548Z
UID:3298-1675159200-1675162800@www.gacc.org.au
SUMMARY:Gentle Exercise Group
DESCRIPTION:When: Tuesday 10am – 11am\nCost: $5 \n  \n\n\n\n\n\n\nOur instructor is a Registered Nurse with many years experience in Aged Care. \nAll welcome to join this friendly group and do sensible exercise. \n  \nFor further information and to register for the class\, please call the Centre on 9750 7982.
URL:https://www.gacc.org.au/event/gentle-exercise-group/2023-01-31/
LOCATION:Greenacre Area Community Centre\, 87 Waterloo Road\, Greenacre\, NSW\, 2190\, Australia
CATEGORIES:Adult Programs,Gentle Exercise
ATTACH;FMTTYPE=image/jpeg:https://www.gacc.org.au/wp-content/uploads/2020/06/group_exercise.jpg
ORGANIZER;CN="Greenacre%20Area%20Community%20Centre":MAILTO:info@gacc.org.au
END:VEVENT
BEGIN:VEVENT
DTSTART;TZID=Australia/Sydney:20230127T103000
DTEND;TZID=Australia/Sydney:20230127T123000
DTSTAMP:20210301T180304
CREATED:20200629T204406Z
LAST-MODIFIED:20200629T204406Z
UID:3296-1674815400-1674822600@www.gacc.org.au
SUMMARY:Food Hamper Drive Thru
DESCRIPTION:COVID-19 Emergency food relief for the community \n  \nWhen: Every Friday from 10.30am -12:30pm\nWhere: Greenacre Area Community Centre \n\n\n\n\n\n\nSUPPORTING LOCAL FAMILIES TO EAT WELL AND LIVE WELL!\n  \nHeld at our Centre every Friday between 10.30am – 12:30pm until all bags are handed out. \nMust be 18+ and live in the Canterbury / Bankstown LGA \nWe ask for a $2 donation towards the cost of transport.
URL:https://www.gacc.org.au/event/food-hamper-drive-thru/2023-01-27/
LOCATION:Greenacre Area Community Centre\, 87 Waterloo Road\, Greenacre\, NSW\, 2190\, Australia
CATEGORIES:Community Programs,Food Hamper Drive Thru
ORGANIZER;CN="Greenacre%20Area%20Community%20Centre":MAILTO:info@gacc.org.au
END:VEVENT
BEGIN:VEVENT
DTSTART;TZID=Australia/Sydney:20230125T100000
DTEND;TZID=Australia/Sydney:20230125T113000
DTSTAMP:20210301T180304
CREATED:20200629T204958Z
LAST-MODIFIED:20200629T204958Z
UID:3295-1674640800-1674646200@www.gacc.org.au
SUMMARY:Playgroup
DESCRIPTION:Address: 87 Waterloo Rd\, Greenacre\nCost: Free. \nOur Playgroup runs every Wednesday from 10am to 11.30am and aims to support children 0-5yrs and their parents/carers and grandparents by engaging in creative play to assist in early childhood development and providing parent/carers with the resources they need. \nIt’s also a place for connecting with other parents and sharing common experiences and feeling supported.
URL:https://www.gacc.org.au/event/playgroup/2023-01-25/
LOCATION:Greenacre Area Community Centre\, 87 Waterloo Road\, Greenacre\, NSW\, 2190\, Australia
CATEGORIES:Child Programs,Playgroups
ATTACH;FMTTYPE=image/jpeg:https://www.gacc.org.au/wp-content/uploads/2020/06/img-children02.jpg
ORGANIZER;CN="Greenacre%20Area%20Community%20Centre":MAILTO:info@gacc.org.au
END:VEVENT
BEGIN:VEVENT
DTSTART;TZID=Australia/Sydney:20230124T120000
DTEND;TZID=Australia/Sydney:20230124T130000
DTSTAMP:20210301T180304
CREATED:20200629T192526Z
LAST-MODIFIED:20200629T192526Z
UID:3293-1674561600-1674565200@www.gacc.org.au
SUMMARY:Hatha Yoga Classes
DESCRIPTION:When: Tuesdays 12pm – 1pm\nWhere: Greenacre Area Community Centre\nHow Much: $8 Casual Rate / $20 for 4 weeks \n\n\n\n\n\n\nSuitable for anyone who wants to feel fitter and happier and have more energy! \n\n\n$8 for Casual Rate\n$5 if paid in advance\n4 weeks $20
URL:https://www.gacc.org.au/event/hatha-yoga-classes/2023-01-24/
LOCATION:Greenacre Area Community Centre\, 87 Waterloo Road\, Greenacre\, NSW\, 2190\, Australia
CATEGORIES:Adult Programs,Yoga Class
ORGANIZER;CN="Greenacre%20Area%20Community%20Centre":MAILTO:info@gacc.org.au
END:VEVENT
BEGIN:VEVENT
DTSTART;TZID=Australia/Sydney:20230124T100000
DTEND;TZID=Australia/Sydney:20230124T110000
DTSTAMP:20210301T180304
CREATED:20200629T203548Z
LAST-MODIFIED:20200629T203548Z
UID:3294-1674554400-1674558000@www.gacc.org.au
SUMMARY:Gentle Exercise Group
DESCRIPTION:When: Tuesday 10am – 11am\nCost: $5 \n  \n\n\n\n\n\n\nOur instructor is a Registered Nurse with many years experience in Aged Care. \nAll welcome to join this friendly group and do sensible exercise. \n  \nFor further information and to register for the class\, please call the Centre on 9750 7982.
URL:https://www.gacc.org.au/event/gentle-exercise-group/2023-01-24/
LOCATION:Greenacre Area Community Centre\, 87 Waterloo Road\, Greenacre\, NSW\, 2190\, Australia
CATEGORIES:Adult Programs,Gentle Exercise
ATTACH;FMTTYPE=image/jpeg:https://www.gacc.org.au/wp-content/uploads/2020/06/group_exercise.jpg
ORGANIZER;CN="Greenacre%20Area%20Community%20Centre":MAILTO:info@gacc.org.au
END:VEVENT
BEGIN:VEVENT
DTSTART;TZID=Australia/Sydney:20230120T133000
DTEND;TZID=Australia/Sydney:20230120T150000
DTSTAMP:20210301T180304
CREATED:20210214T175542Z
LAST-MODIFIED:20210214T175622Z
UID:3353-1674221400-1674226800@www.gacc.org.au
SUMMARY:Women's Creative Space
DESCRIPTION:A Monthly Program for Women of the local community to develop and share their creative skills with others. \nActivities include knitting\, crocheting\, sewing\, painting and more! \nBegins 19th Feb 2021! \n  \nWhen: Every third Friday of the Month\nTime: 1:30pm – 3:00pm\nWhere: Greenacre Area Community Centre\nCost: A small fee may apply based on the month’s activity
URL:https://www.gacc.org.au/event/womens-creative-space/2023-01-20/
LOCATION:Greenacre Area Community Centre\, 87 Waterloo Road\, Greenacre\, NSW\, 2190\, Australia
CATEGORIES:Women's Creative Space
ATTACH;FMTTYPE=image/jpeg:https://www.gacc.org.au/wp-content/uploads/2021/02/creativespace.jpg
ORGANIZER;CN="Greenacre%20Area%20Community%20Centre":MAILTO:info@gacc.org.au
END:VEVENT
BEGIN:VEVENT
DTSTART;TZID=Australia/Sydney:20230120T103000
DTEND;TZID=Australia/Sydney:20230120T123000
DTSTAMP:20210301T180304
CREATED:20200629T204406Z
LAST-MODIFIED:20200629T204406Z
UID:3292-1674210600-1674217800@www.gacc.org.au
SUMMARY:Food Hamper Drive Thru
DESCRIPTION:COVID-19 Emergency food relief for the community \n  \nWhen: Every Friday from 10.30am -12:30pm\nWhere: Greenacre Area Community Centre \n\n\n\n\n\n\nSUPPORTING LOCAL FAMILIES TO EAT WELL AND LIVE WELL!\n  \nHeld at our Centre every Friday between 10.30am – 12:30pm until all bags are handed out. \nMust be 18+ and live in the Canterbury / Bankstown LGA \nWe ask for a $2 donation towards the cost of transport.
URL:https://www.gacc.org.au/event/food-hamper-drive-thru/2023-01-20/
LOCATION:Greenacre Area Community Centre\, 87 Waterloo Road\, Greenacre\, NSW\, 2190\, Australia
CATEGORIES:Community Programs,Food Hamper Drive Thru
ORGANIZER;CN="Greenacre%20Area%20Community%20Centre":MAILTO:info@gacc.org.au
END:VEVENT
BEGIN:VEVENT
DTSTART;TZID=Australia/Sydney:20230118T100000
DTEND;TZID=Australia/Sydney:20230118T113000
DTSTAMP:20210301T180304
CREATED:20200629T204958Z
LAST-MODIFIED:20200629T204958Z
UID:3291-1674036000-1674041400@www.gacc.org.au
SUMMARY:Playgroup
DESCRIPTION:Address: 87 Waterloo Rd\, Greenacre\nCost: Free. \nOur Playgroup runs every Wednesday from 10am to 11.30am and aims to support children 0-5yrs and their parents/carers and grandparents by engaging in creative play to assist in early childhood development and providing parent/carers with the resources they need. \nIt’s also a place for connecting with other parents and sharing common experiences and feeling supported.
URL:https://www.gacc.org.au/event/playgroup/2023-01-18/
LOCATION:Greenacre Area Community Centre\, 87 Waterloo Road\, Greenacre\, NSW\, 2190\, Australia
CATEGORIES:Child Programs,Playgroups
ATTACH;FMTTYPE=image/jpeg:https://www.gacc.org.au/wp-content/uploads/2020/06/img-children02.jpg
ORGANIZER;CN="Greenacre%20Area%20Community%20Centre":MAILTO:info@gacc.org.au
END:VEVENT
BEGIN:VEVENT
DTSTART;TZID=Australia/Sydney:20230117T120000
DTEND;TZID=Australia/Sydney:20230117T130000
DTSTAMP:20210301T180304
CREATED:20200629T192526Z
LAST-MODIFIED:20200629T192526Z
UID:3289-1673956800-1673960400@www.gacc.org.au
SUMMARY:Hatha Yoga Classes
DESCRIPTION:When: Tuesdays 12pm – 1pm\nWhere: Greenacre Area Community Centre\nHow Much: $8 Casual Rate / $20 for 4 weeks \n\n\n\n\n\n\nSuitable for anyone who wants to feel fitter and happier and have more energy! \n\n\n$8 for Casual Rate\n$5 if paid in advance\n4 weeks $20
URL:https://www.gacc.org.au/event/hatha-yoga-classes/2023-01-17/
LOCATION:Greenacre Area Community Centre\, 87 Waterloo Road\, Greenacre\, NSW\, 2190\, Australia
CATEGORIES:Adult Programs,Yoga Class
ORGANIZER;CN="Greenacre%20Area%20Community%20Centre":MAILTO:info@gacc.org.au
END:VEVENT
BEGIN:VEVENT
DTSTART;TZID=Australia/Sydney:20230117T100000
DTEND;TZID=Australia/Sydney:20230117T110000
DTSTAMP:20210301T180304
CREATED:20200629T203548Z
LAST-MODIFIED:20200629T203548Z
UID:3290-1673949600-1673953200@www.gacc.org.au
SUMMARY:Gentle Exercise Group
DESCRIPTION:When: Tuesday 10am – 11am\nCost: $5 \n  \n\n\n\n\n\n\nOur instructor is a Registered Nurse with many years experience in Aged Care. \nAll welcome to join this friendly group and do sensible exercise. \n  \nFor further information and to register for the class\, please call the Centre on 9750 7982.
URL:https://www.gacc.org.au/event/gentle-exercise-group/2023-01-17/
LOCATION:Greenacre Area Community Centre\, 87 Waterloo Road\, Greenacre\, NSW\, 2190\, Australia
CATEGORIES:Adult Programs,Gentle Exercise
ATTACH;FMTTYPE=image/jpeg:https://www.gacc.org.au/wp-content/uploads/2020/06/group_exercise.jpg
ORGANIZER;CN="Greenacre%20Area%20Community%20Centre":MAILTO:info@gacc.org.au
END:VEVENT
BEGIN:VEVENT
DTSTART;TZID=Australia/Sydney:20230113T103000
DTEND;TZID=Australia/Sydney:20230113T123000
DTSTAMP:20210301T180304
CREATED:20200629T204406Z
LAST-MODIFIED:20200629T204406Z
UID:3288-1673605800-1673613000@www.gacc.org.au
SUMMARY:Food Hamper Drive Thru
DESCRIPTION:COVID-19 Emergency food relief for the community \n  \nWhen: Every Friday from 10.30am -12:30pm\nWhere: Greenacre Area Community Centre \n\n\n\n\n\n\nSUPPORTING LOCAL FAMILIES TO EAT WELL AND LIVE WELL!\n  \nHeld at our Centre every Friday between 10.30am – 12:30pm until all bags are handed out. \nMust be 18+ and live in the Canterbury / Bankstown LGA \nWe ask for a $2 donation towards the cost of transport.
URL:https://www.gacc.org.au/event/food-hamper-drive-thru/2023-01-13/
LOCATION:Greenacre Area Community Centre\, 87 Waterloo Road\, Greenacre\, NSW\, 2190\, Australia
CATEGORIES:Community Programs,Food Hamper Drive Thru
ORGANIZER;CN="Greenacre%20Area%20Community%20Centre":MAILTO:info@gacc.org.au
END:VEVENT
BEGIN:VEVENT
DTSTART;TZID=Australia/Sydney:20230111T100000
DTEND;TZID=Australia/Sydney:20230111T113000
DTSTAMP:20210301T180304
CREATED:20200629T204958Z
LAST-MODIFIED:20200629T204958Z
UID:3287-1673431200-1673436600@www.gacc.org.au
SUMMARY:Playgroup
DESCRIPTION:Address: 87 Waterloo Rd\, Greenacre\nCost: Free. \nOur Playgroup runs every Wednesday from 10am to 11.30am and aims to support children 0-5yrs and their parents/carers and grandparents by engaging in creative play to assist in early childhood development and providing parent/carers with the resources they need. \nIt’s also a place for connecting with other parents and sharing common experiences and feeling supported.
URL:https://www.gacc.org.au/event/playgroup/2023-01-11/
LOCATION:Greenacre Area Community Centre\, 87 Waterloo Road\, Greenacre\, NSW\, 2190\, Australia
CATEGORIES:Child Programs,Playgroups
ATTACH;FMTTYPE=image/jpeg:https://www.gacc.org.au/wp-content/uploads/2020/06/img-children02.jpg
ORGANIZER;CN="Greenacre%20Area%20Community%20Centre":MAILTO:info@gacc.org.au
END:VEVENT
END:VCALENDAR